BEGIN:VCALENDAR
VERSION:2.0
CALSCALE:GREGORIAN
PRODID:-//Diputació de Barcelona//DibaCMS//EN
BEGIN:VEVENT
UID:58161
DTSTAMP:20260421T141431
DTSTART:20250504T180000
DTEND:20250504T180000
SUMMARY:Concert de primavera
LOCATION:C/ Ramon i Cajal - (cantonada Av. Granollers) 08450 Llinars del Vallés
METHOD:PUBLISH
X-WR-CALNAME:info@llinarsdelvalles.cat
X-WR-TIMEZONE:Europe/Madrid
DESCRIPTION:Trobada Coral de Cançó Catalana.

URI:https://www.llinarsdelvalles.cat/actualitat/agenda/concert-de-primavera.html
CLASS:PUBLIC
END:VEVENT
END:VCALENDAR
