BEGIN:VCALENDAR
VERSION:2.0
CALSCALE:GREGORIAN
PRODID:-//Diputació de Barcelona//DibaCMS//EN
BEGIN:VEVENT
UID:58185
DTSTAMP:20260419T211353
DTSTART:20250515T183000
DTEND:20250515T183000
SUMMARY:Xerrada Km0 Educar amb amabilitat i fermesa
LOCATION:Av. Pau Casals, 26 08450 Llinars del Vallès
METHOD:PUBLISH
X-WR-CALNAME:info@llinarsdelvalles.cat
X-WR-TIMEZONE:Europe/Madrid
DESCRIPTION:A càrrec de Mariana Capurro, autora de "Permiso para educar" i Anna Estapé, pediatra.

URI:https://www.llinarsdelvalles.cat/actualitat/agenda/xerrada-km0-educar-amb-amabilitat-i-fermesa.html
CLASS:PUBLIC
END:VEVENT
END:VCALENDAR
