BEGIN:VCALENDAR
VERSION:2.0
CALSCALE:GREGORIAN
PRODID:-//Diputació de Barcelona//DibaCMS//EN
BEGIN:VEVENT
UID:58187
DTSTAMP:20260421T154128
DTSTART:20250508T000000
DTEND:20250528T000000
SUMMARY:Exposició km0 Supernatural
LOCATION:Av. Pau Casals, 26 08450 Llinars del Vallès
METHOD:PUBLISH
X-WR-CALNAME:info@llinarsdelvalles.cat
X-WR-TIMEZONE:Europe/Madrid
DESCRIPTION:A càrrec de Jean Pierre Fortoul, usuari del club Social La Torrassa de la Fundació Privada LAR.

URI:https://www.llinarsdelvalles.cat/actualitat/agenda/exposicio-km0-supernatural.html
CLASS:PUBLIC
END:VEVENT
END:VCALENDAR
