BEGIN:VCALENDAR
VERSION:2.0
CALSCALE:GREGORIAN
PRODID:-//Diputació de Barcelona//DibaCMS//EN
BEGIN:VEVENT
UID:58192
DTSTAMP:20260421T123406
DTSTART:20250530T170000
DTEND:20250530T170000
SUMMARY:Sortida familiar km0 - Cant de riera, un viatge cap a l'aigua
LOCATION:Av. Pau Casals, 26 08450 Llinars del Vallès
METHOD:PUBLISH
X-WR-CALNAME:info@llinarsdelvalles.cat
X-WR-TIMEZONE:Europe/Madrid
DESCRIPTION:A càrrec de Carme Clapés, biòloga, guia i educadora ambiental al Parc Natural del Montseny.

URI:https://www.llinarsdelvalles.cat/actualitat/agenda/sortida-familiar-km0-cant-de-riera-un-viatge-cap-a-laigua.html
CLASS:PUBLIC
END:VEVENT
END:VCALENDAR
