BEGIN:VCALENDAR
VERSION:2.0
CALSCALE:GREGORIAN
PRODID:-//Diputació de Barcelona//DibaCMS//EN
BEGIN:VEVENT
UID:58208
DTSTAMP:20260419T210742
DTSTART:20250510T000000
DTEND:20250706T000000
SUMMARY:Nova exposició a l'Espai d'Art Llinars
LOCATION:C/ Frederic Marés (antic CAP) 08450 Llinars del Vallès
METHOD:PUBLISH
X-WR-CALNAME:info@llinarsdelvalles.cat
X-WR-TIMEZONE:Europe/Madrid
DESCRIPTION:Llum i reflex d'ombra d'Alain Chardon.
Inauguració: diumenge 11 de maig a les 12 h.

URI:https://www.llinarsdelvalles.cat/actualitat/agenda/58208-nova-exposicio-a-lespai-dart-llinars.html
CLASS:PUBLIC
END:VEVENT
END:VCALENDAR
