BEGIN:VCALENDAR
VERSION:2.0
CALSCALE:GREGORIAN
PRODID:-//Diputació de Barcelona//DibaCMS//EN
BEGIN:VEVENT
UID:58213
DTSTAMP:20260419T195607
DTSTART:20250518T090000
DTEND:20250518T140000
SUMMARY:CBF - Final a Quatre C.C. Infantil Femení Preferent
LOCATION:
METHOD:PUBLISH
X-WR-CALNAME:info@llinarsdelvalles.cat
X-WR-TIMEZONE:Europe/Madrid
DESCRIPTION:Acte emmarcat en la Capitalitat del Bàsquet Femení

URI:https://www.llinarsdelvalles.cat/actualitat/agenda/58213-cbf-final-a-quatre-cc-infantil-femeni-preferent.html
CLASS:PUBLIC
END:VEVENT
END:VCALENDAR
