BEGIN:VCALENDAR
VERSION:2.0
CALSCALE:GREGORIAN
PRODID:-//Diputació de Barcelona//DibaCMS//EN
BEGIN:VEVENT
UID:58221
DTSTAMP:20260421T135230
DTSTART:20250525T180000
DTEND:20250525T200000
SUMMARY:Cinexic: 'Anem a caçar un os'
LOCATION:08450 Llinars del Vallès
METHOD:PUBLISH
X-WR-CALNAME:info@llinarsdelvalles.cat
X-WR-TIMEZONE:Europe/Madrid
DESCRIPTION: 

 

URI:https://www.llinarsdelvalles.cat/actualitat/agenda/58221-cinexic-anem-a-cacar-un-os.html
CLASS:PUBLIC
END:VEVENT
END:VCALENDAR
