BEGIN:VCALENDAR
VERSION:2.0
CALSCALE:GREGORIAN
PRODID:-//Diputació de Barcelona//DibaCMS//EN
BEGIN:VEVENT
UID:58223
DTSTAMP:20260420T201147
DTSTART:20250627T110000
DTEND:20250627T110000
SUMMARY:Taller formatiu de les sigles LGTBIQA+ 
LOCATION:C/ Ramon i Cajal - (cantonada Av. Granollers) 08450 Llinars del Vallés
METHOD:PUBLISH
X-WR-CALNAME:info@llinarsdelvalles.cat
X-WR-TIMEZONE:Europe/Madrid
DESCRIPTION:A càrrec de la Brigitta Lamoure.

URI:https://www.llinarsdelvalles.cat/actualitat/agenda/taller-formatiu-de-les-sigles-lgtbiqa-.html
CLASS:PUBLIC
END:VEVENT
END:VCALENDAR
