BEGIN:VCALENDAR
VERSION:2.0
CALSCALE:GREGORIAN
PRODID:-//Diputació de Barcelona//DibaCMS//EN
BEGIN:VEVENT
UID:58224
DTSTAMP:20260421T123255
DTSTART:20250525T100000
DTEND:20250525T100000
SUMMARY:Inauguració de Casa Virupa i Lac a Can Bordoi
LOCATION:
METHOD:PUBLISH
X-WR-CALNAME:info@llinarsdelvalles.cat
X-WR-TIMEZONE:Europe/Madrid
DESCRIPTION:
URI:https://www.llinarsdelvalles.cat/actualitat/agenda/inauguracio-de-casa-virupa-i-lac-a-can-bordoi.html
CLASS:PUBLIC
END:VEVENT
END:VCALENDAR
