BEGIN:VCALENDAR
VERSION:2.0
CALSCALE:GREGORIAN
PRODID:-//Diputació de Barcelona//DibaCMS//EN
BEGIN:VEVENT
UID:58227
DTSTAMP:20260421T122827
DTSTART:20250525T093000
DTEND:20250525T093000
SUMMARY:Jornada d'escacs escolars a Llinars
LOCATION:C/ Josep Argila, 39 08450 Llinars del Vallés
METHOD:PUBLISH
X-WR-CALNAME:info@llinarsdelvalles.cat
X-WR-TIMEZONE:Europe/Madrid
DESCRIPTION:
URI:https://www.llinarsdelvalles.cat/actualitat/agenda/jornada-descacs-escolars-a-llinars.html
CLASS:PUBLIC
END:VEVENT
END:VCALENDAR
