BEGIN:VCALENDAR
VERSION:2.0
CALSCALE:GREGORIAN
PRODID:-//Diputació de Barcelona//DibaCMS//EN
BEGIN:VEVENT
UID:58230
DTSTAMP:20260421T150645
DTSTART:20250601T190000
DTEND:20250601T190000
SUMMARY:Teatre - Dones de ràdio
LOCATION:Ronda Sant Antoni, 19 08450 Llinars del Vallès
METHOD:PUBLISH
X-WR-CALNAME:info@llinarsdelvalles.cat
X-WR-TIMEZONE:Europe/Madrid
DESCRIPTION:
URI:https://www.llinarsdelvalles.cat/actualitat/agenda/teatre-dones-de-radio.html
CLASS:PUBLIC
END:VEVENT
END:VCALENDAR
