BEGIN:VCALENDAR
VERSION:2.0
CALSCALE:GREGORIAN
PRODID:-//Diputació de Barcelona//DibaCMS//EN
BEGIN:VEVENT
UID:58236
DTSTAMP:20260421T125214
DTSTART:20250605T170000
DTEND:20250605T190000
SUMMARY:Taller puntual infantil de costura i maquillatge
LOCATION:C/ Josep Argila, 39 08450 Llinars del Vallés
METHOD:PUBLISH
X-WR-CALNAME:info@llinarsdelvalles.cat
X-WR-TIMEZONE:Europe/Madrid
DESCRIPTION:A càrrec de D'Ara Corboud.

URI:https://www.llinarsdelvalles.cat/actualitat/agenda/taller-puntual-infantil-de-costura-i-maquillatge.html
CLASS:PUBLIC
END:VEVENT
END:VCALENDAR
