BEGIN:VCALENDAR
VERSION:2.0
CALSCALE:GREGORIAN
PRODID:-//Diputació de Barcelona//DibaCMS//EN
BEGIN:VEVENT
UID:58240
DTSTAMP:20260421T141621
DTSTART:20250606T183000
DTEND:20250606T183000
SUMMARY:Presentació: Xarranca: poemes breus i haikus
LOCATION:Av. Pau Casals, 26 08450 Llinars del Vallès
METHOD:PUBLISH
X-WR-CALNAME:info@llinarsdelvalles.cat
X-WR-TIMEZONE:Europe/Madrid
DESCRIPTION:A càrrec d'Alicia Molina, autora.

URI:https://www.llinarsdelvalles.cat/actualitat/agenda/presentacio-xarranca-poemes-breus-i-haikus.html
CLASS:PUBLIC
END:VEVENT
END:VCALENDAR
