BEGIN:VCALENDAR
VERSION:2.0
CALSCALE:GREGORIAN
PRODID:-//Diputació de Barcelona//DibaCMS//EN
BEGIN:VEVENT
UID:58241
DTSTAMP:20260421T125428
DTSTART:20250606T193000
DTEND:20250606T193000
SUMMARY:Concert - Viatge musical per l'Europa del segle XIX
LOCATION:Ronda Sant Antoni, 19 08450 Llinars del Vallès
METHOD:PUBLISH
X-WR-CALNAME:info@llinarsdelvalles.cat
X-WR-TIMEZONE:Europe/Madrid
DESCRIPTION:
URI:https://www.llinarsdelvalles.cat/actualitat/agenda/concert-viatge-musical-per-leuropa-del-segle-xix.html
CLASS:PUBLIC
END:VEVENT
END:VCALENDAR
