BEGIN:VCALENDAR
VERSION:2.0
CALSCALE:GREGORIAN
PRODID:-//Diputació de Barcelona//DibaCMS//EN
BEGIN:VEVENT
UID:58243
DTSTAMP:20260421T141557
DTSTART:20250607T000000
DTEND:20250607T000000
SUMMARY:Festa infantil solidària
LOCATION:Descampat al costat de l'Esportiu. 
METHOD:PUBLISH
X-WR-CALNAME:info@llinarsdelvalles.cat
X-WR-TIMEZONE:Europe/Madrid
DESCRIPTION:Acte benèfic per recaptar fons per a l'estudi de la malaltia de Cadasil.

URI:https://www.llinarsdelvalles.cat/actualitat/agenda/festa-infantil-solidaria.html
CLASS:PUBLIC
END:VEVENT
END:VCALENDAR
