BEGIN:VCALENDAR
VERSION:2.0
CALSCALE:GREGORIAN
PRODID:-//Diputació de Barcelona//DibaCMS//EN
BEGIN:VEVENT
UID:58244
DTSTAMP:20260421T165348
DTSTART:20250607T190000
DTEND:20250607T190000
SUMMARY:Caminada nocturna
LOCATION:
METHOD:PUBLISH
X-WR-CALNAME:info@llinarsdelvalles.cat
X-WR-TIMEZONE:Europe/Madrid
DESCRIPTION:Opció de visitar La Torrassa pujant per la Capella de Sant Esteve del Coll i baixant pel Bosc de Can Bordoi.

URI:https://www.llinarsdelvalles.cat/actualitat/agenda/caminada-nocturna.html
CLASS:PUBLIC
END:VEVENT
END:VCALENDAR
