BEGIN:VCALENDAR
VERSION:2.0
CALSCALE:GREGORIAN
PRODID:-//Diputació de Barcelona//DibaCMS//EN
BEGIN:VEVENT
UID:58246
DTSTAMP:20260421T153954
DTSTART:20250608T100000
DTEND:20250608T100000
SUMMARY:Concert de Final de curs de l'Escola de Música de Llinars
LOCATION:Ronda Sant Antoni, 19 08450 Llinars del Vallès
METHOD:PUBLISH
X-WR-CALNAME:info@llinarsdelvalles.cat
X-WR-TIMEZONE:Europe/Madrid
DESCRIPTION:
URI:https://www.llinarsdelvalles.cat/actualitat/agenda/concert-final-curs-2025-EMM.html
CLASS:PUBLIC
END:VEVENT
END:VCALENDAR
