BEGIN:VCALENDAR
VERSION:2.0
CALSCALE:GREGORIAN
PRODID:-//Diputació de Barcelona//DibaCMS//EN
BEGIN:VEVENT
UID:58249
DTSTAMP:20260421T125323
DTSTART:20250610T173000
DTEND:20250610T173000
SUMMARY:Tallers sobre sexualitat
LOCATION:C/ Josep Argila, 39 08450 Llinars del Vallés
METHOD:PUBLISH
X-WR-CALNAME:info@llinarsdelvalles.cat
X-WR-TIMEZONE:Europe/Madrid
DESCRIPTION:Cicle de tallers de sexualitat per a joves, a càrrec de Mandràgores.

URI:https://www.llinarsdelvalles.cat/actualitat/agenda/58249-tallers-sobre-sexualitat.html
CLASS:PUBLIC
END:VEVENT
END:VCALENDAR
