BEGIN:VCALENDAR
VERSION:2.0
CALSCALE:GREGORIAN
PRODID:-//Diputació de Barcelona//DibaCMS//EN
BEGIN:VEVENT
UID:58250
DTSTAMP:20260421T135149
DTSTART:20250602T000000
DTEND:20250619T000000
SUMMARY:Activa't juny 2025
LOCATION:Av. Pau Casals, 22-24 (Àrea central) 08450 Llinars del Vallès
METHOD:PUBLISH
X-WR-CALNAME:info@llinarsdelvalles.cat
X-WR-TIMEZONE:Europe/Madrid
DESCRIPTION:
URI:https://www.llinarsdelvalles.cat/actualitat/agenda/activat-juny-2025.html
CLASS:PUBLIC
END:VEVENT
END:VCALENDAR
