BEGIN:VCALENDAR
VERSION:2.0
CALSCALE:GREGORIAN
PRODID:-//Diputació de Barcelona//DibaCMS//EN
BEGIN:VEVENT
UID:58258
DTSTAMP:20260421T125249
DTSTART:20250611T183000
DTEND:20250611T200000
SUMMARY:Escolta Jove - El repte de matenir la calma
LOCATION:C/ Josep Argila, 39 08450 Llinars del Vallés
METHOD:PUBLISH
X-WR-CALNAME:info@llinarsdelvalles.cat
X-WR-TIMEZONE:Europe/Madrid
DESCRIPTION:Taller per a famílies.

URI:https://www.llinarsdelvalles.cat/actualitat/agenda/escolta-jove-el-repte-de-matenir-la-calma.html
CLASS:PUBLIC
END:VEVENT
END:VCALENDAR
