BEGIN:VCALENDAR
VERSION:2.0
CALSCALE:GREGORIAN
PRODID:-//Diputació de Barcelona//DibaCMS//EN
BEGIN:VEVENT
UID:58261
DTSTAMP:20260421T141249
DTSTART:20250613T183000
DTEND:20250613T183000
SUMMARY:Presentació - Ensenya'm la llengua, d'Antoni Beltran
LOCATION:Av. Pau Casals, 26 08450 Llinars del Vallès
METHOD:PUBLISH
X-WR-CALNAME:info@llinarsdelvalles.cat
X-WR-TIMEZONE:Europe/Madrid
DESCRIPTION:A càrrec de l'autor i Germà Morlans Molina, especialista en medicina interna i geriatria.

URI:https://www.llinarsdelvalles.cat/actualitat/agenda/presentacio-ensenyam-la-llengua-dantoni-beltran.html
CLASS:PUBLIC
END:VEVENT
END:VCALENDAR
