BEGIN:VCALENDAR
VERSION:2.0
CALSCALE:GREGORIAN
PRODID:-//Diputació de Barcelona//DibaCMS//EN
BEGIN:VEVENT
UID:58262
DTSTAMP:20260420T011417
DTSTART:20250614T110000
DTEND:20250614T110000
SUMMARY:Contacontes i presentació del llibre "Marró" de Gemma Duran, un conte infantil que celebra la diferència
LOCATION:Can Quitxalla (c/ Nou, 43) 
METHOD:PUBLISH
X-WR-CALNAME:info@llinarsdelvalles.cat
X-WR-TIMEZONE:Europe/Madrid
DESCRIPTION:
URI:https://www.llinarsdelvalles.cat/actualitat/agenda/contacontes-i-presentacio-del-llibre-marro-de-gemma-duran-un-conte-infantil-que-celebra-la-diferencia.html
CLASS:PUBLIC
END:VEVENT
END:VCALENDAR
