BEGIN:VCALENDAR
VERSION:2.0
CALSCALE:GREGORIAN
PRODID:-//Diputació de Barcelona//DibaCMS//EN
BEGIN:VEVENT
UID:58266
DTSTAMP:20260419T200236
DTSTART:20250618T183000
DTEND:20250618T183000
SUMMARY:Presentació del llibre "Darrere les persianes, breu història de les lesbianes a Barcelona", d'Isabel Franc
LOCATION:Av. Pau Casals, 26 08450 Llinars del Vallès
METHOD:PUBLISH
X-WR-CALNAME:info@llinarsdelvalles.cat
X-WR-TIMEZONE:Europe/Madrid
DESCRIPTION:A càrrec del grup de teatre Till-Tall i amb la presència de l'autora.

URI:https://www.llinarsdelvalles.cat/actualitat/agenda/presentacio-del-llibre-darrere-les-persianes-breu-historia-de-les-lesbianes-a-barcelona-disabel-franc.html
CLASS:PUBLIC
END:VEVENT
END:VCALENDAR
