BEGIN:VCALENDAR
VERSION:2.0
CALSCALE:GREGORIAN
PRODID:-//Diputació de Barcelona//DibaCMS//EN
BEGIN:VEVENT
UID:58268
DTSTAMP:20260420T010758
DTSTART:20250619T183000
DTEND:20250619T183000
SUMMARY:Presentació km0 "Lupiruja con botas y el campamento de Marc Mac" de Noela Navas 
LOCATION:Av. Pau Casals, 26 08450 Llinars del Vallès
METHOD:PUBLISH
X-WR-CALNAME:info@llinarsdelvalles.cat
X-WR-TIMEZONE:Europe/Madrid
DESCRIPTION:A càrrec de l'autora.

URI:https://www.llinarsdelvalles.cat/actualitat/agenda/presentacio-km0-lupiruja-con-botas-y-el-campamento-de-marc-mac-de-noela-navas-.html
CLASS:PUBLIC
END:VEVENT
END:VCALENDAR
