BEGIN:VCALENDAR
VERSION:2.0
CALSCALE:GREGORIAN
PRODID:-//Diputació de Barcelona//DibaCMS//EN
BEGIN:VEVENT
UID:58270
DTSTAMP:20260419T200146
DTSTART:20250622T200000
DTEND:20250622T200000
SUMMARY:Sardanes amb la cobla La Principal de Llobregat
LOCATION:Plaça dels Països Catalans 
METHOD:PUBLISH
X-WR-CALNAME:info@llinarsdelvalles.cat
X-WR-TIMEZONE:Europe/Madrid
DESCRIPTION:
URI:https://www.llinarsdelvalles.cat/actualitat/agenda/58270-sardanes-amb-la-cobla-la-principal-de-llobregat.html
CLASS:PUBLIC
END:VEVENT
END:VCALENDAR
