BEGIN:VCALENDAR
VERSION:2.0
CALSCALE:GREGORIAN
PRODID:-//Diputació de Barcelona//DibaCMS//EN
BEGIN:VEVENT
UID:58272
DTSTAMP:20260419T183518
DTSTART:20250623T220000
DTEND:20250623T220000
SUMMARY:Revetlla de Sant Joan
LOCATION:
METHOD:PUBLISH
X-WR-CALNAME:info@llinarsdelvalles.cat
X-WR-TIMEZONE:Europe/Madrid
DESCRIPTION:Rebuda de la Flama del Canigó i lectura del manifest al pati d'armes del Castell Nou.

URI:https://www.llinarsdelvalles.cat/actualitat/agenda/58272-revetlla-de-sant-joan.html
CLASS:PUBLIC
END:VEVENT
END:VCALENDAR
