BEGIN:VCALENDAR
VERSION:2.0
CALSCALE:GREGORIAN
PRODID:-//Diputació de Barcelona//DibaCMS//EN
BEGIN:VEVENT
UID:58273
DTSTAMP:20260420T010927
DTSTART:20250625T190000
DTEND:20250625T190000
SUMMARY:Presentació del cartell de Festa Major 2025
LOCATION:Av. Pau Casals, 26 08450 Llinars del Vallès
METHOD:PUBLISH
X-WR-CALNAME:info@llinarsdelvalles.cat
X-WR-TIMEZONE:Europe/Madrid
DESCRIPTION:
URI:https://www.llinarsdelvalles.cat/actualitat/agenda/presentacio-del-cartell-de-festa-major-2025.html
CLASS:PUBLIC
END:VEVENT
END:VCALENDAR
