BEGIN:VCALENDAR
VERSION:2.0
CALSCALE:GREGORIAN
PRODID:-//Diputació de Barcelona//DibaCMS//EN
BEGIN:VEVENT
UID:58274
DTSTAMP:20260420T122514
DTSTART:20250626T173000
DTEND:20250626T173000
SUMMARY:Hora del conte "Elmer, l'elefant de colors"
LOCATION:Av. Pau Casals, 26 08450 Llinars del Vallès
METHOD:PUBLISH
X-WR-CALNAME:info@llinarsdelvalles.cat
X-WR-TIMEZONE:Europe/Madrid
DESCRIPTION:A càrrec de Pampallugues Teatre.

URI:https://www.llinarsdelvalles.cat/actualitat/agenda/hora-del-conte-elmer-lelefant-de-colors.html
CLASS:PUBLIC
END:VEVENT
END:VCALENDAR
