BEGIN:VCALENDAR
VERSION:2.0
CALSCALE:GREGORIAN
PRODID:-//Diputació de Barcelona//DibaCMS//EN
BEGIN:VEVENT
UID:58275
DTSTAMP:20260420T212957
DTSTART:20250628T090000
DTEND:20250628T090000
SUMMARY:Sortida al parc aquàtic Water World de Lloret de Mar
LOCATION:Av. Mas Bagà, 26 08450 Llinars del Vallès
METHOD:PUBLISH
X-WR-CALNAME:info@llinarsdelvalles.cat
X-WR-TIMEZONE:Europe/Madrid
DESCRIPTION:
URI:https://www.llinarsdelvalles.cat/actualitat/agenda/sortida-al-parc-aquatic-water-world-de-lloret-de-mar.html
CLASS:PUBLIC
END:VEVENT
END:VCALENDAR
