BEGIN:VCALENDAR
VERSION:2.0
CALSCALE:GREGORIAN
PRODID:-//Diputació de Barcelona//DibaCMS//EN
BEGIN:VEVENT
UID:58276
DTSTAMP:20260420T074952
DTSTART:20250628T160000
DTEND:20250628T160000
SUMMARY:Simultànies d'escacs a càrrec de WEM Maria Rodrigo Yanguas
LOCATION:Passeig Europa de les Nacions. 
METHOD:PUBLISH
X-WR-CALNAME:info@llinarsdelvalles.cat
X-WR-TIMEZONE:Europe/Madrid
DESCRIPTION:
URI:https://www.llinarsdelvalles.cat/actualitat/agenda/simultanies-descacs-a-carrec-de-wem-maria-rodrigo-yanguas.html
CLASS:PUBLIC
END:VEVENT
END:VCALENDAR
