BEGIN:VCALENDAR
VERSION:2.0
CALSCALE:GREGORIAN
PRODID:-//Diputació de Barcelona//DibaCMS//EN
BEGIN:VEVENT
UID:58277
DTSTAMP:20260420T103535
DTSTART:20250628T183000
DTEND:20250628T183000
SUMMARY:Taula rodona en Clau Femenina
LOCATION:Ronda Sant Antoni, 19 08450 Llinars del Vallès
METHOD:PUBLISH
X-WR-CALNAME:info@llinarsdelvalles.cat
X-WR-TIMEZONE:Europe/Madrid
DESCRIPTION:
URI:https://www.llinarsdelvalles.cat/actualitat/agenda/taula-rodona-en-clau-femenina.html
CLASS:PUBLIC
END:VEVENT
END:VCALENDAR
