BEGIN:VCALENDAR
VERSION:2.0
CALSCALE:GREGORIAN
PRODID:-//Diputació de Barcelona//DibaCMS//EN
BEGIN:VEVENT
UID:58278
DTSTAMP:20260420T091831
DTSTART:20250629T100000
DTEND:20250629T130000
SUMMARY:Ràpides d'escacs per aficionats
LOCATION:Ronda Sant Antoni, 19 08450 Llinars del Vallès
METHOD:PUBLISH
X-WR-CALNAME:info@llinarsdelvalles.cat
X-WR-TIMEZONE:Europe/Madrid
DESCRIPTION:
URI:https://www.llinarsdelvalles.cat/actualitat/agenda/58278-rapides-descacs-per-aficionats.html
CLASS:PUBLIC
END:VEVENT
END:VCALENDAR
