BEGIN:VCALENDAR
VERSION:2.0
CALSCALE:GREGORIAN
PRODID:-//Diputació de Barcelona//DibaCMS//EN
BEGIN:VEVENT
UID:58284
DTSTAMP:20260421T122919
DTSTART:20250602T000000
DTEND:20250626T000000
SUMMARY:Exposició km0 - Taller infantil de dibuix i pintura de Can Lletres
LOCATION:Av. Pau Casals, 26 08450 Llinars del Vallès
METHOD:PUBLISH
X-WR-CALNAME:info@llinarsdelvalles.cat
X-WR-TIMEZONE:Europe/Madrid
DESCRIPTION:Alumnes de la Laura Cáceres.

URI:https://www.llinarsdelvalles.cat/actualitat/agenda/exposicio-km0-taller-infantil-de-dibuix-i-pintura-de-can-lletres.html
CLASS:PUBLIC
END:VEVENT
END:VCALENDAR
