BEGIN:VCALENDAR
VERSION:2.0
CALSCALE:GREGORIAN
PRODID:-//Diputació de Barcelona//DibaCMS//EN
BEGIN:VEVENT
UID:58288
DTSTAMP:20260421T141507
DTSTART:20250607T000000
DTEND:20250629T000000
SUMMARY:Exposició “Voluptate Fruens” a l’Espai Ruscalleda Art
LOCATION:Espai Ruscalleda Art
C/ Major, 32, 1r 1a
647 46 66 73
espairuscalledaart@gmail.com 
METHOD:PUBLISH
X-WR-CALNAME:info@llinarsdelvalles.cat
X-WR-TIMEZONE:Europe/Madrid
DESCRIPTION:De Toni Garreta i Santi Nadal.
Inauguració: 7 de juny a les 19 h.

URI:https://www.llinarsdelvalles.cat/actualitat/agenda/exposicio-voluptate-fruens-a-lespai-ruscalleda-art.html
CLASS:PUBLIC
END:VEVENT
END:VCALENDAR
