BEGIN:VCALENDAR
VERSION:2.0
CALSCALE:GREGORIAN
PRODID:-//Diputació de Barcelona//DibaCMS//EN
BEGIN:VEVENT
UID:58289
DTSTAMP:20260420T091851
DTSTART:20250615T170000
DTEND:20250615T170000
SUMMARY:Espectacle de Màgia Onírica
LOCATION:C/ Ramon i Cajal - (cantonada Av. Granollers) 08450 Llinars del Vallés
METHOD:PUBLISH
X-WR-CALNAME:info@llinarsdelvalles.cat
X-WR-TIMEZONE:Europe/Madrid
DESCRIPTION:A càrrec del Jordi Mag - Díver.

URI:https://www.llinarsdelvalles.cat/actualitat/agenda/espectacle-de-magia-onirica.html
CLASS:PUBLIC
END:VEVENT
END:VCALENDAR
