BEGIN:VCALENDAR
VERSION:2.0
CALSCALE:GREGORIAN
PRODID:-//Diputació de Barcelona//DibaCMS//EN
BEGIN:VEVENT
UID:58300
DTSTAMP:20260421T103931
DTSTART:20250614T183000
DTEND:20250614T183000
SUMMARY:Tardeo Solidari amb Carbon Copy
LOCATION:08450 Llinars del Vallès
METHOD:PUBLISH
X-WR-CALNAME:info@llinarsdelvalles.cat
X-WR-TIMEZONE:Europe/Madrid
DESCRIPTION:Versions dels 80 i els 90.

URI:https://www.llinarsdelvalles.cat/actualitat/agenda/tardeo-solidari-amb-carbon-copy.html
CLASS:PUBLIC
END:VEVENT
END:VCALENDAR
