BEGIN:VCALENDAR
VERSION:2.0
CALSCALE:GREGORIAN
PRODID:-//Diputació de Barcelona//DibaCMS//EN
BEGIN:VEVENT
UID:58302
DTSTAMP:20260420T012201
DTSTART:20250618T000000
DTEND:20250627T000000
SUMMARY:Commemoració del 28J Dia de l'Orgull
LOCATION:
METHOD:PUBLISH
X-WR-CALNAME:info@llinarsdelvalles.cat
X-WR-TIMEZONE:Europe/Madrid
DESCRIPTION:Amb motiu del Dia Internacional de l’Orgull, s’han programat diverses activitats obertes a tota la ciutadania. 

URI:https://www.llinarsdelvalles.cat/actualitat/agenda/commemoracio-del-28j-dia-de-lorgull.html
CLASS:PUBLIC
END:VEVENT
END:VCALENDAR
