BEGIN:VCALENDAR
VERSION:2.0
CALSCALE:GREGORIAN
PRODID:-//Diputació de Barcelona//DibaCMS//EN
BEGIN:VEVENT
UID:58305
DTSTAMP:20260420T173025
DTSTART:20250628T193000
DTEND:20250628T193000
SUMMARY:Passejada guiada - Nit de ratapinyades
LOCATION:Av. Pau Casals, 26 08450 Llinars del Vallès
METHOD:PUBLISH
X-WR-CALNAME:info@llinarsdelvalles.cat
X-WR-TIMEZONE:Europe/Madrid
DESCRIPTION:Passejada organitzada pel Parc Montnegre Corredor.

URI:https://www.llinarsdelvalles.cat/actualitat/agenda/passejada-guiada-nit-de-ratapinyades.html
CLASS:PUBLIC
END:VEVENT
END:VCALENDAR
