BEGIN:VCALENDAR
VERSION:2.0
CALSCALE:GREGORIAN
PRODID:-//Diputació de Barcelona//DibaCMS//EN
BEGIN:VEVENT
UID:58306
DTSTAMP:20260420T024809
DTSTART:20250625T000000
DTEND:20250716T000000
SUMMARY:Taller d'autodefensa per a dones
LOCATION:C/ Ramon i Cajal - (cantonada Av. Granollers) 08450 Llinars del Vallés
METHOD:PUBLISH
X-WR-CALNAME:info@llinarsdelvalles.cat
X-WR-TIMEZONE:Europe/Madrid
DESCRIPTION:
URI:https://www.llinarsdelvalles.cat/actualitat/agenda/taller-dautodefensa-per-a-dones.html
CLASS:PUBLIC
END:VEVENT
END:VCALENDAR
