BEGIN:VCALENDAR
VERSION:2.0
CALSCALE:GREGORIAN
PRODID:-//Diputació de Barcelona//DibaCMS//EN
BEGIN:VEVENT
UID:58308
DTSTAMP:20260421T021557
DTSTART:20250629T170000
DTEND:20250629T170000
SUMMARY:Ball amb Show Duet
LOCATION:C/ Ramon i Cajal - (cantonada Av. Granollers) 08450 Llinars del Vallés
METHOD:PUBLISH
X-WR-CALNAME:info@llinarsdelvalles.cat
X-WR-TIMEZONE:Europe/Madrid
DESCRIPTION:
URI:https://www.llinarsdelvalles.cat/actualitat/agenda/ball-amb-show-duet.html
CLASS:PUBLIC
END:VEVENT
END:VCALENDAR
