BEGIN:VCALENDAR
VERSION:2.0
CALSCALE:GREGORIAN
PRODID:-//Diputació de Barcelona//DibaCMS//EN
BEGIN:VEVENT
UID:58312
DTSTAMP:20260420T011355
DTSTART:20250625T000000
DTEND:20250730T000000
SUMMARY:Caminades saludables
LOCATION:
METHOD:PUBLISH
X-WR-CALNAME:info@llinarsdelvalles.cat
X-WR-TIMEZONE:Europe/Madrid
DESCRIPTION:
URI:https://www.llinarsdelvalles.cat/actualitat/agenda/caminades-saludables.html
CLASS:PUBLIC
END:VEVENT
END:VCALENDAR
