BEGIN:VCALENDAR
VERSION:2.0
CALSCALE:GREGORIAN
PRODID:-//Diputació de Barcelona//DibaCMS//EN
BEGIN:VEVENT
UID:58315
DTSTAMP:20260420T091508
DTSTART:20250630T000000
DTEND:20250731T000000
SUMMARY:Activa't a l'estiu 2025
LOCATION:
METHOD:PUBLISH
X-WR-CALNAME:info@llinarsdelvalles.cat
X-WR-TIMEZONE:Europe/Madrid
DESCRIPTION:
URI:https://www.llinarsdelvalles.cat/actualitat/agenda/activat-a-lestiu-2025.html
CLASS:PUBLIC
END:VEVENT
END:VCALENDAR
