BEGIN:VCALENDAR
VERSION:2.0
CALSCALE:GREGORIAN
PRODID:-//Diputació de Barcelona//DibaCMS//EN
BEGIN:VEVENT
UID:58325
DTSTAMP:20260422T120540
DTSTART:20250704T000000
DTEND:20250706T000000
SUMMARY:Festa Major de Sant Josep
LOCATION:08450 Llinars del Vallès
METHOD:PUBLISH
X-WR-CALNAME:info@llinarsdelvalles.cat
X-WR-TIMEZONE:Europe/Madrid
DESCRIPTION:Organitza: AV. Sant Josep

URI:https://www.llinarsdelvalles.cat/actualitat/agenda/58325-festa-major-de-sant-josep.html
CLASS:PUBLIC
END:VEVENT
END:VCALENDAR
