BEGIN:VCALENDAR
VERSION:2.0
CALSCALE:GREGORIAN
PRODID:-//Diputació de Barcelona//DibaCMS//EN
BEGIN:VEVENT
UID:58326
DTSTAMP:20260422T113517
DTSTART:20250705T210000
DTEND:20250705T210000
SUMMARY:Festival de patinatge artístic
LOCATION:Av. Pau Casals, 18-20 (Àrea central) 08450 Llinars del Vallès
METHOD:PUBLISH
X-WR-CALNAME:info@llinarsdelvalles.cat
X-WR-TIMEZONE:Europe/Madrid
DESCRIPTION:"La màquina del temps"

URI:https://www.llinarsdelvalles.cat/actualitat/agenda/58326-festival-de-patinatge-artistic.html
CLASS:PUBLIC
END:VEVENT
END:VCALENDAR
