BEGIN:VCALENDAR
VERSION:2.0
CALSCALE:GREGORIAN
PRODID:-//Diputació de Barcelona//DibaCMS//EN
BEGIN:VEVENT
UID:58327
DTSTAMP:20260420T213017
DTSTART:20250705T000000
DTEND:20250706T000000
SUMMARY:Tercera edició del Flash Fiction
LOCATION:
METHOD:PUBLISH
X-WR-CALNAME:info@llinarsdelvalles.cat
X-WR-TIMEZONE:Europe/Madrid
DESCRIPTION:Com cada juliol, el teatre va al bar!

URI:https://www.llinarsdelvalles.cat/actualitat/agenda/tercera-edicio-del-flash-fiction.html
CLASS:PUBLIC
END:VEVENT
END:VCALENDAR
