BEGIN:VCALENDAR
VERSION:2.0
CALSCALE:GREGORIAN
PRODID:-//Diputació de Barcelona//DibaCMS//EN
BEGIN:VEVENT
UID:58328
DTSTAMP:20260419T211439
DTSTART:20250713T183000
DTEND:20250713T183000
SUMMARY:Tercera edició del Flash Fiction
LOCATION:
METHOD:PUBLISH
X-WR-CALNAME:info@llinarsdelvalles.cat
X-WR-TIMEZONE:Europe/Madrid
DESCRIPTION:Si no vas poder veure les peces de microteatre als bars els dies 5 i 6 de juliol, es representen totes seguides el 13 de juliol a Can Lletres

URI:https://www.llinarsdelvalles.cat/actualitat/agenda/58328-tercera-edicio-del-flash-fiction.html
CLASS:PUBLIC
END:VEVENT
END:VCALENDAR
