BEGIN:VCALENDAR
VERSION:2.0
CALSCALE:GREGORIAN
PRODID:-//Diputació de Barcelona//DibaCMS//EN
BEGIN:VEVENT
UID:58335
DTSTAMP:20260420T144602
DTSTART:20250703T000000
DTEND:20250730T000000
SUMMARY:Exposició de Codina "Amb un parell de pinzells"
LOCATION:C/ Ramon i Cajal - (cantonada Av. Granollers) 08450 Llinars del Vallés
METHOD:PUBLISH
X-WR-CALNAME:info@llinarsdelvalles.cat
X-WR-TIMEZONE:Europe/Madrid
DESCRIPTION:
URI:https://www.llinarsdelvalles.cat/actualitat/agenda/exposicio-de-codina-amb-un-parell-de-pinzells.html
CLASS:PUBLIC
END:VEVENT
END:VCALENDAR
