BEGIN:VCALENDAR
VERSION:2.0
CALSCALE:GREGORIAN
PRODID:-//Diputació de Barcelona//DibaCMS//EN
BEGIN:VEVENT
UID:58336
DTSTAMP:20260420T024351
DTSTART:20250708T180000
DTEND:20250708T180000
SUMMARY:Taller infantil "Biblioart"
LOCATION:Av. Pau Casals, 26 08450 Llinars del Vallès
METHOD:PUBLISH
X-WR-CALNAME:info@llinarsdelvalles.cat
X-WR-TIMEZONE:Europe/Madrid
DESCRIPTION:
URI:https://www.llinarsdelvalles.cat/actualitat/agenda/taller-infantil-biblioart.html
CLASS:PUBLIC
END:VEVENT
END:VCALENDAR
