BEGIN:VCALENDAR
VERSION:2.0
CALSCALE:GREGORIAN
PRODID:-//Diputació de Barcelona//DibaCMS//EN
BEGIN:VEVENT
UID:58340
DTSTAMP:20260420T010915
DTSTART:20250710T180000
DTEND:20250710T180000
SUMMARY:Planetari immersiu "Exploradors de l'aigua"
LOCATION:Av. Pau Casals, 26 08450 Llinars del Vallès
METHOD:PUBLISH
X-WR-CALNAME:info@llinarsdelvalles.cat
X-WR-TIMEZONE:Europe/Madrid
DESCRIPTION:A càrrec d'Explora360.

URI:https://www.llinarsdelvalles.cat/actualitat/agenda/planetari-immersiu-exploradors-de-laigua.html
CLASS:PUBLIC
END:VEVENT
END:VCALENDAR
