BEGIN:VCALENDAR
VERSION:2.0
CALSCALE:GREGORIAN
PRODID:-//Diputació de Barcelona//DibaCMS//EN
BEGIN:VEVENT
UID:58341
DTSTAMP:20260420T022115
DTSTART:20250710T190000
DTEND:20250710T190000
SUMMARY:Planetari immersiu "La màgia dels estels a Hogwarts"
LOCATION:Av. Pau Casals, 26 08450 Llinars del Vallès
METHOD:PUBLISH
X-WR-CALNAME:info@llinarsdelvalles.cat
X-WR-TIMEZONE:Europe/Madrid
DESCRIPTION:A càrrec d'Explora360.

URI:https://www.llinarsdelvalles.cat/actualitat/agenda/planetari-immersiu-la-magia-dels-estels-a-hogwarts.html
CLASS:PUBLIC
END:VEVENT
END:VCALENDAR
